BEGIN:VCALENDAR
VERSION:2.0
PRODID:-//Suck Spring Baptist Church - ECPv6.15.1.1//NONSGML v1.0//EN
CALSCALE:GREGORIAN
METHOD:PUBLISH
X-WR-CALNAME:Suck Spring Baptist Church
X-ORIGINAL-URL:https://suckspringbaptist.com
X-WR-CALDESC:Events for Suck Spring Baptist Church
REFRESH-INTERVAL;VALUE=DURATION:PT1H
X-Robots-Tag:noindex
X-PUBLISHED-TTL:PT1H
BEGIN:VTIMEZONE
TZID:UTC
BEGIN:STANDARD
TZOFFSETFROM:+0000
TZOFFSETTO:+0000
TZNAME:UTC
DTSTART:20160101T000000
END:STANDARD
END:VTIMEZONE
BEGIN:VTIMEZONE
TZID:America/New_York
BEGIN:DAYLIGHT
TZOFFSETFROM:-0500
TZOFFSETTO:-0400
TZNAME:EDT
DTSTART:20170312T070000
END:DAYLIGHT
BEGIN:STANDARD
TZOFFSETFROM:-0400
TZOFFSETTO:-0500
TZNAME:EST
DTSTART:20171105T060000
END:STANDARD
BEGIN:DAYLIGHT
TZOFFSETFROM:-0500
TZOFFSETTO:-0400
TZNAME:EDT
DTSTART:20180311T070000
END:DAYLIGHT
BEGIN:STANDARD
TZOFFSETFROM:-0400
TZOFFSETTO:-0500
TZNAME:EST
DTSTART:20181104T060000
END:STANDARD
END:VTIMEZONE
BEGIN:VEVENT
DTSTART;TZID=UTC:20180909T093000
DTEND;TZID=UTC:20180909T110000
DTSTAMP:20260423T190517
CREATED:20160420T211702Z
LAST-MODIFIED:20160420T211702Z
UID:778-1536485400-1536490800@suckspringbaptist.com
SUMMARY:Sunday School
DESCRIPTION:Arrive between 9:30 and 9:50 for a morning snack and fellowship.  Sunday School begins at 10am.
URL:https://suckspringbaptist.com/event/sunday-school-2018-09-09/
ATTACH;FMTTYPE=image/jpeg:https://suckspringbaptist.com/wp-content/uploads/2016/04/SundaySchool.jpg
END:VEVENT
BEGIN:VEVENT
DTSTART;TZID=UTC:20180902T110000
DTEND;TZID=UTC:20180902T121500
DTSTAMP:20260423T190517
CREATED:20160420T211857Z
LAST-MODIFIED:20160420T211857Z
UID:776-1535886000-1535890500@suckspringbaptist.com
SUMMARY:Worship Service
DESCRIPTION:
URL:https://suckspringbaptist.com/event/worship-service-2018-09-02/
END:VEVENT
BEGIN:VEVENT
DTSTART;TZID=UTC:20180902T093000
DTEND;TZID=UTC:20180902T110000
DTSTAMP:20260423T190517
CREATED:20160420T211702Z
LAST-MODIFIED:20160420T211702Z
UID:775-1535880600-1535886000@suckspringbaptist.com
SUMMARY:Sunday School
DESCRIPTION:Arrive between 9:30 and 9:50 for a morning snack and fellowship.  Sunday School begins at 10am.
URL:https://suckspringbaptist.com/event/sunday-school-2018-09-02/
ATTACH;FMTTYPE=image/jpeg:https://suckspringbaptist.com/wp-content/uploads/2016/04/SundaySchool.jpg
END:VEVENT
BEGIN:VEVENT
DTSTART;TZID=UTC:20180826T110000
DTEND;TZID=UTC:20180826T121500
DTSTAMP:20260423T190517
CREATED:20160420T211857Z
LAST-MODIFIED:20160420T211857Z
UID:727-1535281200-1535285700@suckspringbaptist.com
SUMMARY:Worship Service
DESCRIPTION:
URL:https://suckspringbaptist.com/event/worship-service-2018-08-26/
END:VEVENT
BEGIN:VEVENT
DTSTART;TZID=UTC:20180826T093000
DTEND;TZID=UTC:20180826T110000
DTSTAMP:20260423T190517
CREATED:20160420T211702Z
LAST-MODIFIED:20160420T211702Z
UID:726-1535275800-1535281200@suckspringbaptist.com
SUMMARY:Sunday School
DESCRIPTION:Arrive between 9:30 and 9:50 for a morning snack and fellowship.  Sunday School begins at 10am.
URL:https://suckspringbaptist.com/event/sunday-school-2018-08-26/
ATTACH;FMTTYPE=image/jpeg:https://suckspringbaptist.com/wp-content/uploads/2016/04/SundaySchool.jpg
END:VEVENT
BEGIN:VEVENT
DTSTART;TZID=America/New_York:20180603T183000
DTEND;TZID=America/New_York:20180607T203000
DTSTAMP:20260423T190517
CREATED:20180430T170453Z
LAST-MODIFIED:20180430T170453Z
UID:1264-1528050600-1528403400@suckspringbaptist.com
SUMMARY:Vacation Bible School
DESCRIPTION:We invite your kids to grab their megaphones\, lace up their cleats\, and tune up their instruments. As they fill up the offensive line\, sideline\, and drumline\, your players\, cheerleaders\, and band members will realize God has given them His ultimate playbook. He wants them to join His team\, train hard\, celebrate salvation\, and encourage one another. Get in the spirit today with Game On! VBS. \nFamily Picnic on Thursday\, June 7th!
URL:https://suckspringbaptist.com/event/vacation-bible-school-2/
CATEGORIES:Children's Event
ATTACH;FMTTYPE=image/jpeg:https://suckspringbaptist.com/wp-content/uploads/2018/04/VBS18_Logo_4c.jpg
END:VEVENT
BEGIN:VEVENT
DTSTART;TZID=UTC:20171212T183000
DTEND;TZID=UTC:20171212T200000
DTSTAMP:20260423T190517
CREATED:20170207T190114Z
LAST-MODIFIED:20170207T190114Z
UID:1142-1513103400-1513108800@suckspringbaptist.com
SUMMARY:Girl's Night Out
DESCRIPTION:Come enjoy food\, fellowship and devotion at Sarah Mayhew’s home.
URL:https://suckspringbaptist.com/event/girls-night-out-17/
CATEGORIES:Girls Night Out
END:VEVENT
BEGIN:VEVENT
DTSTART;TZID=UTC:20171114T183000
DTEND;TZID=UTC:20171114T200000
DTSTAMP:20260423T190517
CREATED:20170207T190007Z
LAST-MODIFIED:20170207T190007Z
UID:1140-1510684200-1510689600@suckspringbaptist.com
SUMMARY:Girl's Night Out
DESCRIPTION:Come enjoy food\, fellowship and devotion at Margaret Mayhew’s home.
URL:https://suckspringbaptist.com/event/girls-night-out-16/
CATEGORIES:Girls Night Out
END:VEVENT
BEGIN:VEVENT
DTSTART;TZID=America/New_York:20171015T103000
DTEND;TZID=America/New_York:20171015T120000
DTSTAMP:20260423T190517
CREATED:20171004T121444Z
LAST-MODIFIED:20171004T121444Z
UID:1249-1508063400-1508068800@suckspringbaptist.com
SUMMARY:Homecoming!
DESCRIPTION:Join us for this service featuring guest speaker\, Dr.Fred Milacci!  Service from 10:30-12:00.   Bring a dish for lunch afterwards!
URL:https://suckspringbaptist.com/event/homecoming/
CATEGORIES:Worship
ATTACH;FMTTYPE=image/jpeg:https://suckspringbaptist.com/wp-content/uploads/2017/10/HomecomingAd.jpg
END:VEVENT
BEGIN:VEVENT
DTSTART;TZID=UTC:20171010T183000
DTEND;TZID=UTC:20171010T200000
DTSTAMP:20260423T190517
CREATED:20170207T185907Z
LAST-MODIFIED:20170207T185907Z
UID:1138-1507660200-1507665600@suckspringbaptist.com
SUMMARY:Girl's Night Out
DESCRIPTION:Come enjoy food\, fellowship and devotion at Judy Sanderson’s home.
URL:https://suckspringbaptist.com/event/girls-night-out-15/
CATEGORIES:Girls Night Out
END:VEVENT
BEGIN:VEVENT
DTSTART;TZID=UTC:20170917T173000
DTEND;TZID=UTC:20170917T190000
DTSTAMP:20260423T190517
CREATED:20160420T205625Z
LAST-MODIFIED:20170929T162219Z
UID:198-1505669400-1505674800@suckspringbaptist.com
SUMMARY:Awana and Youth
DESCRIPTION:Join us at 5:30 pm for any of the following: \nAwana for ages 3 – 6th Grade.  Awana Trek for Grades 7-8. \nYouth 7th – 12th Grade.  In Youth we are learning about issues of creation vs. evolution\, the age of the earth\, and creation of man – the answers are in Genesis.  See the truth of what God’s Word tells us!
URL:https://suckspringbaptist.com/event/awana-and-youth/
CATEGORIES:AWANA
ATTACH;FMTTYPE=image/png:https://suckspringbaptist.com/wp-content/uploads/2016/04/AWana.png
END:VEVENT
BEGIN:VEVENT
DTSTART;TZID=UTC:20170912T183000
DTEND;TZID=UTC:20170912T200000
DTSTAMP:20260423T190517
CREATED:20170207T185714Z
LAST-MODIFIED:20170207T185714Z
UID:1136-1505241000-1505246400@suckspringbaptist.com
SUMMARY:Girl's Night Out
DESCRIPTION:Come enjoy food\, fellowship and devotion at Shannon Mayhew’s home\, hosted by Shannon and Bev.  All are welcome!
URL:https://suckspringbaptist.com/event/girls-night-out-14/
CATEGORIES:Girls Night Out
END:VEVENT
BEGIN:VEVENT
DTSTART;TZID=UTC:20170812T090000
DTEND;TZID=UTC:20170812T110000
DTSTAMP:20260423T190517
CREATED:20170207T185512Z
LAST-MODIFIED:20170731T160823Z
UID:1134-1502528400-1502535600@suckspringbaptist.com
SUMMARY:Girl's Night Out
DESCRIPTION:Come enjoy breakfast at Lesa Claytor’s house.  Food\, fellowship and devotion\, hosted by Tracie and Lesa!
URL:https://suckspringbaptist.com/event/girls-night-out-13/
CATEGORIES:Girls Night Out
END:VEVENT
BEGIN:VEVENT
DTSTART;TZID=UTC:20170711T183000
DTEND;TZID=UTC:20170711T200000
DTSTAMP:20260423T190517
CREATED:20170207T185338Z
LAST-MODIFIED:20170207T185338Z
UID:1132-1499797800-1499803200@suckspringbaptist.com
SUMMARY:Girl's Night Out
DESCRIPTION:Come enjoy food\, fellowship and devotion at Susie Glenn’s home.  All are welcome.
URL:https://suckspringbaptist.com/event/girls-night-out-12/
CATEGORIES:Girls Night Out
END:VEVENT
BEGIN:VEVENT
DTSTART;TZID=America/New_York:20170622T100000
DTEND;TZID=America/New_York:20170622T120000
DTSTAMP:20260423T190517
CREATED:20170524T170048Z
LAST-MODIFIED:20170524T170048Z
UID:1197-1498125600-1498132800@suckspringbaptist.com
SUMMARY:Hearts On Call
DESCRIPTION:
URL:https://suckspringbaptist.com/event/hearts-on-call-2/
LOCATION:Suck Spring Baptist Church\, 3887 Jopling Rd. \, Bedford\, VA\, 24523\, United States
CATEGORIES:Hearts On Call
END:VEVENT
BEGIN:VEVENT
DTSTART;TZID=America/New_York:20170620T183000
DTEND;TZID=America/New_York:20170620T200000
DTSTAMP:20260423T190517
CREATED:20170524T170322Z
LAST-MODIFIED:20170524T170322Z
UID:1199-1497983400-1497988800@suckspringbaptist.com
SUMMARY:Girl's Night Out
DESCRIPTION:Come enjoy food\, fellowship and devotion at Andrea Ripley’s Beechwood Island.  All are welcome.
URL:https://suckspringbaptist.com/event/girls-night-out-18/
CATEGORIES:Girls Night Out
END:VEVENT
BEGIN:VEVENT
DTSTART;TZID=America/New_York:20170611T183000
DTEND;TZID=America/New_York:20170611T203000
DTSTAMP:20260423T190517
CREATED:20170524T171223Z
LAST-MODIFIED:20170524T171536Z
UID:1201-1497205800-1497213000@suckspringbaptist.com
SUMMARY:Galactic Starveyors Vacation Bible School
DESCRIPTION:Come focus your telescopes on the marvels painted in the sky by the Creator\, as you discover the wonder among all wonders – that the God who created everything there is – the knowable and the unknowable\, the visible and the invisible – wants a personal relationship with you!
URL:https://suckspringbaptist.com/event/galactic-starveyors-vacation-bible-school/
LOCATION:Suck Spring Baptist Church\, 3887 Jopling Rd. \, Bedford\, VA\, 24523\, United States
CATEGORIES:Children's Event
ATTACH;FMTTYPE=image/jpeg:https://suckspringbaptist.com/wp-content/uploads/2017/05/Twitter_InStream-2-e1495645917888.jpeg
END:VEVENT
BEGIN:VEVENT
DTSTART;TZID=UTC:20170509T183000
DTEND;TZID=UTC:20170509T200000
DTSTAMP:20260423T190517
CREATED:20170207T185046Z
LAST-MODIFIED:20170207T185046Z
UID:1130-1494354600-1494360000@suckspringbaptist.com
SUMMARY:Girl's Night Out
DESCRIPTION:Come enjoy food\, fellowship and devotion at the home of Faye Eubank.  All are welcome!
URL:https://suckspringbaptist.com/event/girls-night-out-11/
CATEGORIES:Girls Night Out
END:VEVENT
BEGIN:VEVENT
DTSTART;TZID=UTC:20170411T183000
DTEND;TZID=UTC:20170411T200000
DTSTAMP:20260423T190517
CREATED:20170207T184929Z
LAST-MODIFIED:20170207T184929Z
UID:1128-1491935400-1491940800@suckspringbaptist.com
SUMMARY:Girl's Night Out
DESCRIPTION:Come enjoy food\, fellowship and devotion at the home of Carrie Johnson.
URL:https://suckspringbaptist.com/event/girls-night-out-10/
CATEGORIES:Girls Night Out
END:VEVENT
BEGIN:VEVENT
DTSTART;TZID=UTC:20170314T183000
DTEND;TZID=UTC:20170314T200000
DTSTAMP:20260423T190517
CREATED:20170207T184813Z
LAST-MODIFIED:20170207T184813Z
UID:1126-1489516200-1489521600@suckspringbaptist.com
SUMMARY:Girl's Night Out
DESCRIPTION:Location TBD!  Stay Tuned
URL:https://suckspringbaptist.com/event/girls-night-out-9/
CATEGORIES:Girls Night Out
END:VEVENT
BEGIN:VEVENT
DTSTART;TZID=America/New_York:20170226T110000
DTEND;TZID=America/New_York:20170226T120000
DTSTAMP:20260423T190517
CREATED:20170207T151342Z
LAST-MODIFIED:20170207T151342Z
UID:1176-1488106800-1488110400@suckspringbaptist.com
SUMMARY:Lord's Supper
DESCRIPTION:
URL:https://suckspringbaptist.com/event/lords-supper/
CATEGORIES:Worship
END:VEVENT
BEGIN:VEVENT
DTSTART;TZID=America/New_York:20170215T183000
DTEND;TZID=America/New_York:20170215T191500
DTSTAMP:20260423T190517
CREATED:20170207T150932Z
LAST-MODIFIED:20170207T150932Z
UID:1164-1487183400-1487186100@suckspringbaptist.com
SUMMARY:Prayer Meeting
DESCRIPTION:
URL:https://suckspringbaptist.com/event/prayer-meeting/
END:VEVENT
BEGIN:VEVENT
DTSTART;TZID=America/New_York:20170208T191500
DTEND;TZID=America/New_York:20170208T200000
DTSTAMP:20260423T190517
CREATED:20170207T150831Z
LAST-MODIFIED:20170207T151224Z
UID:1162-1486581300-1486584000@suckspringbaptist.com
SUMMARY:Choir Rehearsal
DESCRIPTION:
URL:https://suckspringbaptist.com/event/choir-rehearsal-3/
END:VEVENT
BEGIN:VEVENT
DTSTART;TZID=America/New_York:20170208T183000
DTEND;TZID=America/New_York:20170208T200000
DTSTAMP:20260423T190517
CREATED:20170207T195730Z
LAST-MODIFIED:20170207T200000Z
UID:1159-1486578600-1486584000@suckspringbaptist.com
SUMMARY:Business Meeting
DESCRIPTION:
URL:https://suckspringbaptist.com/event/business-meeting-2/
END:VEVENT
BEGIN:VEVENT
DTSTART;TZID=UTC:20170207T183000
DTEND;TZID=UTC:20170207T200000
DTSTAMP:20260423T190517
CREATED:20170207T191335Z
LAST-MODIFIED:20170207T191335Z
UID:1145-1486492200-1486497600@suckspringbaptist.com
SUMMARY:Girl's Night Out
DESCRIPTION:Come enjoy food\, fellowship and devotion at The Blue Lady!
URL:https://suckspringbaptist.com/event/girls-night-out-8/
LOCATION:The Blue Lady\, 321 W. Main St. \, Bedford\, VA\, 24523\, United States
CATEGORIES:Girls Night Out
END:VEVENT
BEGIN:VEVENT
DTSTART;TZID=UTC:20170101T110000
DTEND;TZID=UTC:20170101T121500
DTSTAMP:20260423T190517
CREATED:20160420T211857Z
LAST-MODIFIED:20161205T021758Z
UID:283-1483268400-1483272900@suckspringbaptist.com
SUMMARY:Worship Service
DESCRIPTION:Pastor Michael begins a new sermon teaching series on “Recovering a Joy That Has Been Stolen”.  Start the New Year by worshiping the Lord and learning how to get back the joy of being a follower of Christ.
URL:https://suckspringbaptist.com/event/worship-service-2017-01-01/
END:VEVENT
BEGIN:VEVENT
DTSTART;TZID=UTC:20161225T103000
DTEND;TZID=UTC:20161225T113000
DTSTAMP:20260423T190517
CREATED:20160420T211857Z
LAST-MODIFIED:20161205T071022Z
UID:282-1482661800-1482665400@suckspringbaptist.com
SUMMARY:Christmas Service 10:30 am
DESCRIPTION:Join us as we celebrate our Savior’s birth!   No Sunday School\, but note that the worship service will begin at 10:30 am. \nPastor Michael’s sermon will be “Wrapped Up in the Unwrapping”.  What brings you greater pleasure – having Jesus or having gifts?
URL:https://suckspringbaptist.com/event/worship-service-2016-12-25/
ATTACH;FMTTYPE=image/jpeg:https://suckspringbaptist.com/wp-content/uploads/2016/04/freely-10039_preview-973x729.jpeg
END:VEVENT
BEGIN:VEVENT
DTSTART;TZID=UTC:20161218T170000
DTEND;TZID=UTC:20161218T190000
DTSTAMP:20260423T190517
CREATED:20161128T205800Z
LAST-MODIFIED:20161128T205800Z
UID:1006-1482080400-1482087600@suckspringbaptist.com
SUMMARY:Children's Christmas Play
DESCRIPTION:
URL:https://suckspringbaptist.com/event/childrens-christmas-play/
LOCATION:Suck Spring Baptist Church\, 3887 Jopling Rd. \, Bedford\, VA\, 24523\, United States
ATTACH;FMTTYPE=image/jpeg:https://suckspringbaptist.com/wp-content/uploads/2016/04/freely-10039_preview-973x729.jpeg
END:VEVENT
BEGIN:VEVENT
DTSTART;TZID=UTC:20161218T110000
DTEND;TZID=UTC:20161218T121500
DTSTAMP:20260423T190517
CREATED:20160420T211857Z
LAST-MODIFIED:20161128T203225Z
UID:281-1482058800-1482063300@suckspringbaptist.com
SUMMARY:Christmas Cantata
DESCRIPTION:Make plans to worship Our Savior during this special Christmas Cantata entitled\, “Come Let Us Adore”
URL:https://suckspringbaptist.com/event/worship-service-2016-12-18/
ATTACH;FMTTYPE=image/jpeg:https://suckspringbaptist.com/wp-content/uploads/2016/04/freely-10207-preview-973x1297.jpeg
END:VEVENT
BEGIN:VEVENT
DTSTART;TZID=UTC:20161214T191500
DTEND;TZID=UTC:20161214T201500
DTSTAMP:20260423T190517
CREATED:20161128T200824Z
LAST-MODIFIED:20161128T200824Z
UID:982-1481742900-1481746500@suckspringbaptist.com
SUMMARY:Choir Rehearsal
DESCRIPTION:Join us in rehearsal for the Christmas Cantata\, to be held on Sunday\, December 18th at 11am! \n 
URL:https://suckspringbaptist.com/event/choir-rehearsal-2/
LOCATION:Suck Spring Baptist Church\, 3887 Jopling Rd. \, Bedford\, VA\, 24523\, United States
ATTACH;FMTTYPE=image/jpeg:https://suckspringbaptist.com/wp-content/uploads/2016/11/freely-10044_preview-973x648.jpeg
END:VEVENT
END:VCALENDAR