BEGIN:VCALENDAR
VERSION:2.0
PRODID:-//Suck Spring Baptist Church - ECPv6.15.1.1//NONSGML v1.0//EN
CALSCALE:GREGORIAN
METHOD:PUBLISH
X-WR-CALNAME:Suck Spring Baptist Church
X-ORIGINAL-URL:https://suckspringbaptist.com
X-WR-CALDESC:Events for Suck Spring Baptist Church
REFRESH-INTERVAL;VALUE=DURATION:PT1H
X-Robots-Tag:noindex
X-PUBLISHED-TTL:PT1H
BEGIN:VTIMEZONE
TZID:America/New_York
BEGIN:DAYLIGHT
TZOFFSETFROM:-0500
TZOFFSETTO:-0400
TZNAME:EDT
DTSTART:20180311T070000
END:DAYLIGHT
BEGIN:STANDARD
TZOFFSETFROM:-0400
TZOFFSETTO:-0500
TZNAME:EST
DTSTART:20181104T060000
END:STANDARD
BEGIN:DAYLIGHT
TZOFFSETFROM:-0500
TZOFFSETTO:-0400
TZNAME:EDT
DTSTART:20190310T070000
END:DAYLIGHT
BEGIN:STANDARD
TZOFFSETFROM:-0400
TZOFFSETTO:-0500
TZNAME:EST
DTSTART:20191103T060000
END:STANDARD
END:VTIMEZONE
BEGIN:VTIMEZONE
TZID:UTC
BEGIN:STANDARD
TZOFFSETFROM:+0000
TZOFFSETTO:+0000
TZNAME:UTC
DTSTART:20180101T000000
END:STANDARD
END:VTIMEZONE
BEGIN:VEVENT
DTSTART;TZID=America/New_York:20190317T173000
DTEND;TZID=America/New_York:20190317T190000
DTSTAMP:20260423T101848
CREATED:20190308T142603Z
LAST-MODIFIED:20190308T142603Z
UID:1323-1552843800-1552849200@suckspringbaptist.com
SUMMARY:AWANA
DESCRIPTION:We invite you to join us any Sunday night\, Sept – May\, at 5:30 pm. Ages range from 3 to 6th grade. For 7th – 8th grades\, we now have available AWANA Trek for those who want to continue their Awana journey. Otherwise\, for 7th – 12th grades we encourage you to check out our Youth Ministry! \nGet the Registration Form Here
URL:https://suckspringbaptist.com/event/awana-4/
CATEGORIES:AWANA
END:VEVENT
BEGIN:VEVENT
DTSTART;TZID=America/New_York:20190310T173000
DTEND;TZID=America/New_York:20190310T190000
DTSTAMP:20260423T101848
CREATED:20190308T142448Z
LAST-MODIFIED:20190308T142448Z
UID:1321-1552239000-1552244400@suckspringbaptist.com
SUMMARY:AWANA
DESCRIPTION:We invite you to join us any Sunday night\, Sept – May\, at 5:30 pm. Ages range from 3 to 6th grade. For 7th – 8th grades\, we now have available AWANA Trek for those who want to continue their Awana journey. Otherwise\, for 7th – 12th grades we encourage you to check out our Youth Ministry! \nGet the Registration Form Here
URL:https://suckspringbaptist.com/event/awana-3/
CATEGORIES:AWANA
END:VEVENT
BEGIN:VEVENT
DTSTART;TZID=UTC:20190310T110000
DTEND;TZID=UTC:20190310T121500
DTSTAMP:20260423T101848
CREATED:20160420T211857Z
LAST-MODIFIED:20190308T144507Z
UID:1121-1552215600-1552220100@suckspringbaptist.com
SUMMARY:Worship Service
DESCRIPTION:
URL:https://suckspringbaptist.com/event/worship-service-2018-10-28-2019-02-03/
CATEGORIES:Worship
END:VEVENT
BEGIN:VEVENT
DTSTART;TZID=UTC:20190310T093000
DTEND;TZID=UTC:20190310T110000
DTSTAMP:20260423T101848
CREATED:20160420T211702Z
LAST-MODIFIED:20190308T144552Z
UID:1119-1552210200-1552215600@suckspringbaptist.com
SUMMARY:Sunday School
DESCRIPTION:Arrive between 9:30 and 9:50 for a morning snack and fellowship.  Sunday School begins at 10am.
URL:https://suckspringbaptist.com/event/sunday-school-2019-02-03/
CATEGORIES:Worship
ATTACH;FMTTYPE=image/jpeg:https://suckspringbaptist.com/wp-content/uploads/2016/04/SundaySchool.jpg
END:VEVENT
BEGIN:VEVENT
DTSTART;TZID=America/New_York:20190308T173000
DTEND;TZID=America/New_York:20190308T190000
DTSTAMP:20260423T101848
CREATED:20190308T142639Z
LAST-MODIFIED:20190308T142639Z
UID:1325-1552066200-1552071600@suckspringbaptist.com
SUMMARY:AWANA
DESCRIPTION:We invite you to join us any Sunday night\, Sept – May\, at 5:30 pm. Ages range from 3 to 6th grade. For 7th – 8th grades\, we now have available AWANA Trek for those who want to continue their Awana journey. Otherwise\, for 7th – 12th grades we encourage you to check out our Youth Ministry! \nGet the Registration Form Here
URL:https://suckspringbaptist.com/event/awana-5/
CATEGORIES:AWANA
END:VEVENT
BEGIN:VEVENT
DTSTART;TZID=America/New_York:20190210T173000
DTEND;TZID=America/New_York:20190210T190000
DTSTAMP:20260423T101848
CREATED:20180817T144101Z
LAST-MODIFIED:20180817T144101Z
UID:1277-1549819800-1549825200@suckspringbaptist.com
SUMMARY:AWANA
DESCRIPTION:We invite you to join us any Sunday night\, Sept – May\, at 5:30 pm.   Ages range from 3 to 6th grade.   For 7th – 8th grades\, we now have available AWANA Trek for those who want to continue their Awana journey.  Otherwise\, for 7th – 12th grades we encourage you to check out our Youth Ministry! \nGet the Registration Form Here
URL:https://suckspringbaptist.com/event/awana-2-2019-02-10/
LOCATION:Suck Spring Baptist Church\, 3887 Jopling Rd. \, Bedford\, VA\, 24523\, United States
CATEGORIES:AWANA
END:VEVENT
BEGIN:VEVENT
DTSTART;TZID=America/New_York:20190203T173000
DTEND;TZID=America/New_York:20190203T190000
DTSTAMP:20260423T101848
CREATED:20180817T144101Z
LAST-MODIFIED:20180817T144101Z
UID:1276-1549215000-1549220400@suckspringbaptist.com
SUMMARY:AWANA
DESCRIPTION:We invite you to join us any Sunday night\, Sept – May\, at 5:30 pm.   Ages range from 3 to 6th grade.   For 7th – 8th grades\, we now have available AWANA Trek for those who want to continue their Awana journey.  Otherwise\, for 7th – 12th grades we encourage you to check out our Youth Ministry! \nGet the Registration Form Here
URL:https://suckspringbaptist.com/event/awana-2-2019-02-03/
LOCATION:Suck Spring Baptist Church\, 3887 Jopling Rd. \, Bedford\, VA\, 24523\, United States
CATEGORIES:AWANA
END:VEVENT
BEGIN:VEVENT
DTSTART;TZID=America/New_York:20190127T173000
DTEND;TZID=America/New_York:20190127T190000
DTSTAMP:20260423T101848
CREATED:20180817T144101Z
LAST-MODIFIED:20180817T144101Z
UID:1275-1548610200-1548615600@suckspringbaptist.com
SUMMARY:AWANA
DESCRIPTION:We invite you to join us any Sunday night\, Sept – May\, at 5:30 pm.   Ages range from 3 to 6th grade.   For 7th – 8th grades\, we now have available AWANA Trek for those who want to continue their Awana journey.  Otherwise\, for 7th – 12th grades we encourage you to check out our Youth Ministry! \nGet the Registration Form Here
URL:https://suckspringbaptist.com/event/awana-2-2019-01-27/
LOCATION:Suck Spring Baptist Church\, 3887 Jopling Rd. \, Bedford\, VA\, 24523\, United States
CATEGORIES:AWANA
END:VEVENT
BEGIN:VEVENT
DTSTART;TZID=UTC:20190127T110000
DTEND;TZID=UTC:20190127T121500
DTSTAMP:20260423T101849
CREATED:20160420T211857Z
LAST-MODIFIED:20160420T211857Z
UID:1115-1548586800-1548591300@suckspringbaptist.com
SUMMARY:Worship Service
DESCRIPTION:
URL:https://suckspringbaptist.com/event/worship-service-2018-10-28-2019-01-27/
END:VEVENT
BEGIN:VEVENT
DTSTART;TZID=UTC:20190127T093000
DTEND;TZID=UTC:20190127T110000
DTSTAMP:20260423T101849
CREATED:20160420T211702Z
LAST-MODIFIED:20160420T211702Z
UID:1113-1548581400-1548586800@suckspringbaptist.com
SUMMARY:Sunday School
DESCRIPTION:Arrive between 9:30 and 9:50 for a morning snack and fellowship.  Sunday School begins at 10am.
URL:https://suckspringbaptist.com/event/sunday-school-2019-01-27/
ATTACH;FMTTYPE=image/jpeg:https://suckspringbaptist.com/wp-content/uploads/2016/04/SundaySchool.jpg
END:VEVENT
BEGIN:VEVENT
DTSTART;TZID=America/New_York:20190120T173000
DTEND;TZID=America/New_York:20190120T190000
DTSTAMP:20260423T101849
CREATED:20180817T144101Z
LAST-MODIFIED:20180817T144101Z
UID:1274-1548005400-1548010800@suckspringbaptist.com
SUMMARY:AWANA
DESCRIPTION:We invite you to join us any Sunday night\, Sept – May\, at 5:30 pm.   Ages range from 3 to 6th grade.   For 7th – 8th grades\, we now have available AWANA Trek for those who want to continue their Awana journey.  Otherwise\, for 7th – 12th grades we encourage you to check out our Youth Ministry! \nGet the Registration Form Here
URL:https://suckspringbaptist.com/event/awana-2-2019-01-20/
LOCATION:Suck Spring Baptist Church\, 3887 Jopling Rd. \, Bedford\, VA\, 24523\, United States
CATEGORIES:AWANA
END:VEVENT
BEGIN:VEVENT
DTSTART;TZID=UTC:20190120T110000
DTEND;TZID=UTC:20190120T121500
DTSTAMP:20260423T101849
CREATED:20160420T211857Z
LAST-MODIFIED:20160420T211857Z
UID:1108-1547982000-1547986500@suckspringbaptist.com
SUMMARY:Worship Service
DESCRIPTION:
URL:https://suckspringbaptist.com/event/worship-service-2019-01-20/
END:VEVENT
BEGIN:VEVENT
DTSTART;TZID=UTC:20190120T093000
DTEND;TZID=UTC:20190120T110000
DTSTAMP:20260423T101849
CREATED:20160420T211702Z
LAST-MODIFIED:20160420T211702Z
UID:1107-1547976600-1547982000@suckspringbaptist.com
SUMMARY:Sunday School
DESCRIPTION:Arrive between 9:30 and 9:50 for a morning snack and fellowship.  Sunday School begins at 10am.
URL:https://suckspringbaptist.com/event/sunday-school-2019-01-20/
ATTACH;FMTTYPE=image/jpeg:https://suckspringbaptist.com/wp-content/uploads/2016/04/SundaySchool.jpg
END:VEVENT
BEGIN:VEVENT
DTSTART;TZID=America/New_York:20190113T173000
DTEND;TZID=America/New_York:20190113T190000
DTSTAMP:20260423T101849
CREATED:20180817T144101Z
LAST-MODIFIED:20180817T144101Z
UID:1273-1547400600-1547406000@suckspringbaptist.com
SUMMARY:AWANA
DESCRIPTION:We invite you to join us any Sunday night\, Sept – May\, at 5:30 pm.   Ages range from 3 to 6th grade.   For 7th – 8th grades\, we now have available AWANA Trek for those who want to continue their Awana journey.  Otherwise\, for 7th – 12th grades we encourage you to check out our Youth Ministry! \nGet the Registration Form Here
URL:https://suckspringbaptist.com/event/awana-2-2019-01-13/
LOCATION:Suck Spring Baptist Church\, 3887 Jopling Rd. \, Bedford\, VA\, 24523\, United States
CATEGORIES:AWANA
END:VEVENT
BEGIN:VEVENT
DTSTART;TZID=UTC:20190113T110000
DTEND;TZID=UTC:20190113T121500
DTSTAMP:20260423T101849
CREATED:20160420T211857Z
LAST-MODIFIED:20160420T211857Z
UID:1087-1547377200-1547381700@suckspringbaptist.com
SUMMARY:Worship Service
DESCRIPTION:
URL:https://suckspringbaptist.com/event/worship-service-2019-01-13/
END:VEVENT
BEGIN:VEVENT
DTSTART;TZID=UTC:20190113T093000
DTEND;TZID=UTC:20190113T110000
DTSTAMP:20260423T101849
CREATED:20160420T211702Z
LAST-MODIFIED:20160420T211702Z
UID:1086-1547371800-1547377200@suckspringbaptist.com
SUMMARY:Sunday School
DESCRIPTION:Arrive between 9:30 and 9:50 for a morning snack and fellowship.  Sunday School begins at 10am.
URL:https://suckspringbaptist.com/event/sunday-school-2019-01-13/
ATTACH;FMTTYPE=image/jpeg:https://suckspringbaptist.com/wp-content/uploads/2016/04/SundaySchool.jpg
END:VEVENT
BEGIN:VEVENT
DTSTART;TZID=America/New_York:20190106T173000
DTEND;TZID=America/New_York:20190106T190000
DTSTAMP:20260423T101849
CREATED:20180817T144101Z
LAST-MODIFIED:20180817T144101Z
UID:1272-1546795800-1546801200@suckspringbaptist.com
SUMMARY:AWANA
DESCRIPTION:We invite you to join us any Sunday night\, Sept – May\, at 5:30 pm.   Ages range from 3 to 6th grade.   For 7th – 8th grades\, we now have available AWANA Trek for those who want to continue their Awana journey.  Otherwise\, for 7th – 12th grades we encourage you to check out our Youth Ministry! \nGet the Registration Form Here
URL:https://suckspringbaptist.com/event/awana-2-2019-01-06/
LOCATION:Suck Spring Baptist Church\, 3887 Jopling Rd. \, Bedford\, VA\, 24523\, United States
CATEGORIES:AWANA
END:VEVENT
BEGIN:VEVENT
DTSTART;TZID=UTC:20190106T110000
DTEND;TZID=UTC:20190106T121500
DTSTAMP:20260423T101849
CREATED:20160420T211857Z
LAST-MODIFIED:20160420T211857Z
UID:1082-1546772400-1546776900@suckspringbaptist.com
SUMMARY:Worship Service
DESCRIPTION:
URL:https://suckspringbaptist.com/event/worship-service-2019-01-06/
END:VEVENT
BEGIN:VEVENT
DTSTART;TZID=UTC:20190106T093000
DTEND;TZID=UTC:20190106T110000
DTSTAMP:20260423T101849
CREATED:20160420T211702Z
LAST-MODIFIED:20160420T211702Z
UID:1081-1546767000-1546772400@suckspringbaptist.com
SUMMARY:Sunday School
DESCRIPTION:Arrive between 9:30 and 9:50 for a morning snack and fellowship.  Sunday School begins at 10am.
URL:https://suckspringbaptist.com/event/sunday-school-2019-01-06/
ATTACH;FMTTYPE=image/jpeg:https://suckspringbaptist.com/wp-content/uploads/2016/04/SundaySchool.jpg
END:VEVENT
BEGIN:VEVENT
DTSTART;TZID=UTC:20181230T110000
DTEND;TZID=UTC:20181230T121500
DTSTAMP:20260423T101849
CREATED:20160420T211857Z
LAST-MODIFIED:20160420T211857Z
UID:1072-1546167600-1546172100@suckspringbaptist.com
SUMMARY:Worship Service
DESCRIPTION:
URL:https://suckspringbaptist.com/event/worship-service-2018-10-28-2018-12-30/
END:VEVENT
BEGIN:VEVENT
DTSTART;TZID=UTC:20181230T093000
DTEND;TZID=UTC:20181230T110000
DTSTAMP:20260423T101849
CREATED:20160420T211702Z
LAST-MODIFIED:20160420T211702Z
UID:1070-1546162200-1546167600@suckspringbaptist.com
SUMMARY:Sunday School
DESCRIPTION:Arrive between 9:30 and 9:50 for a morning snack and fellowship.  Sunday School begins at 10am.
URL:https://suckspringbaptist.com/event/sunday-school-2018-12-30/
ATTACH;FMTTYPE=image/jpeg:https://suckspringbaptist.com/wp-content/uploads/2016/04/SundaySchool.jpg
END:VEVENT
BEGIN:VEVENT
DTSTART;TZID=UTC:20181223T110000
DTEND;TZID=UTC:20181223T121500
DTSTAMP:20260423T101849
CREATED:20160420T211857Z
LAST-MODIFIED:20160420T211857Z
UID:1068-1545562800-1545567300@suckspringbaptist.com
SUMMARY:Worship Service
DESCRIPTION:
URL:https://suckspringbaptist.com/event/worship-service-2018-10-28-2018-12-23/
END:VEVENT
BEGIN:VEVENT
DTSTART;TZID=UTC:20181223T093000
DTEND;TZID=UTC:20181223T110000
DTSTAMP:20260423T101849
CREATED:20160420T211702Z
LAST-MODIFIED:20160420T211702Z
UID:1066-1545557400-1545562800@suckspringbaptist.com
SUMMARY:Sunday School
DESCRIPTION:Arrive between 9:30 and 9:50 for a morning snack and fellowship.  Sunday School begins at 10am.
URL:https://suckspringbaptist.com/event/sunday-school-2018-12-23/
ATTACH;FMTTYPE=image/jpeg:https://suckspringbaptist.com/wp-content/uploads/2016/04/SundaySchool.jpg
END:VEVENT
BEGIN:VEVENT
DTSTART;TZID=UTC:20181216T110000
DTEND;TZID=UTC:20181216T121500
DTSTAMP:20260423T101849
CREATED:20160420T211857Z
LAST-MODIFIED:20160420T211857Z
UID:1062-1544958000-1544962500@suckspringbaptist.com
SUMMARY:Worship Service
DESCRIPTION:
URL:https://suckspringbaptist.com/event/worship-service-2018-12-16/
END:VEVENT
BEGIN:VEVENT
DTSTART;TZID=UTC:20181216T093000
DTEND;TZID=UTC:20181216T110000
DTSTAMP:20260423T101849
CREATED:20160420T211702Z
LAST-MODIFIED:20160420T211702Z
UID:1061-1544952600-1544958000@suckspringbaptist.com
SUMMARY:Sunday School
DESCRIPTION:Arrive between 9:30 and 9:50 for a morning snack and fellowship.  Sunday School begins at 10am.
URL:https://suckspringbaptist.com/event/sunday-school-2018-12-16/
ATTACH;FMTTYPE=image/jpeg:https://suckspringbaptist.com/wp-content/uploads/2016/04/SundaySchool.jpg
END:VEVENT
BEGIN:VEVENT
DTSTART;TZID=America/New_York:20181209T180000
DTEND;TZID=America/New_York:20181209T193000
DTSTAMP:20260423T101849
CREATED:20181126T022516Z
LAST-MODIFIED:20181126T022516Z
UID:1290-1544378400-1544383800@suckspringbaptist.com
SUMMARY:The Adult Christmas Play "The Christmas Shoes"
DESCRIPTION:
URL:https://suckspringbaptist.com/event/the-adult-christmas-play-the-christmas-shoes/
CATEGORIES:Worship
END:VEVENT
BEGIN:VEVENT
DTSTART;TZID=UTC:20181209T110000
DTEND;TZID=UTC:20181209T121500
DTSTAMP:20260423T101849
CREATED:20160420T211857Z
LAST-MODIFIED:20160420T211857Z
UID:1058-1544353200-1544357700@suckspringbaptist.com
SUMMARY:Worship Service
DESCRIPTION:
URL:https://suckspringbaptist.com/event/worship-service-2018-12-09/
END:VEVENT
BEGIN:VEVENT
DTSTART;TZID=UTC:20181209T093000
DTEND;TZID=UTC:20181209T110000
DTSTAMP:20260423T101849
CREATED:20160420T211702Z
LAST-MODIFIED:20160420T211702Z
UID:1057-1544347800-1544353200@suckspringbaptist.com
SUMMARY:Sunday School
DESCRIPTION:Arrive between 9:30 and 9:50 for a morning snack and fellowship.  Sunday School begins at 10am.
URL:https://suckspringbaptist.com/event/sunday-school-2018-12-09/
ATTACH;FMTTYPE=image/jpeg:https://suckspringbaptist.com/wp-content/uploads/2016/04/SundaySchool.jpg
END:VEVENT
BEGIN:VEVENT
DTSTART;TZID=UTC:20181202T110000
DTEND;TZID=UTC:20181202T121500
DTSTAMP:20260423T101849
CREATED:20160420T211857Z
LAST-MODIFIED:20160420T211857Z
UID:1012-1543748400-1543752900@suckspringbaptist.com
SUMMARY:Worship Service
DESCRIPTION:
URL:https://suckspringbaptist.com/event/worship-service-2018-12-02/
END:VEVENT
BEGIN:VEVENT
DTSTART;TZID=America/New_York:20181202T110000
DTEND;TZID=America/New_York:20181202T120000
DTSTAMP:20260423T101849
CREATED:20181126T022617Z
LAST-MODIFIED:20181126T022617Z
UID:1292-1543748400-1543752000@suckspringbaptist.com
SUMMARY:Children's Christmas Play\, "A Christmas ADVENTure"
DESCRIPTION:
URL:https://suckspringbaptist.com/event/childrens-christmas-play-a-christmas-adventure/
CATEGORIES:Children's Event,Worship
END:VEVENT
END:VCALENDAR