BEGIN:VCALENDAR
VERSION:2.0
PRODID:-//Suck Spring Baptist Church - ECPv6.15.1.1//NONSGML v1.0//EN
CALSCALE:GREGORIAN
METHOD:PUBLISH
X-WR-CALNAME:Suck Spring Baptist Church
X-ORIGINAL-URL:https://suckspringbaptist.com
X-WR-CALDESC:Events for Suck Spring Baptist Church
REFRESH-INTERVAL;VALUE=DURATION:PT1H
X-Robots-Tag:noindex
X-PUBLISHED-TTL:PT1H
BEGIN:VTIMEZONE
TZID:UTC
BEGIN:STANDARD
TZOFFSETFROM:+0000
TZOFFSETTO:+0000
TZNAME:UTC
DTSTART:20160101T000000
END:STANDARD
END:VTIMEZONE
BEGIN:VEVENT
DTSTART;TZID=UTC:20161213T183000
DTEND;TZID=UTC:20161213T203000
DTSTAMP:20260424T000951
CREATED:20161128T202722Z
LAST-MODIFIED:20161128T202722Z
UID:993-1481653800-1481661000@suckspringbaptist.com
SUMMARY:Girl's Night Out
DESCRIPTION:We welcome all women to join an evening of fellowship\, devotions and fun!    This month it’s happening at Sarah Mayhew’s home.   Dinner is provided.
URL:https://suckspringbaptist.com/event/girls-night-out/
LOCATION:Sarah Mayhew’s Home\, 2101 Kelso Mill Rd. \, Bedford\, VA\, 24523\, United States
CATEGORIES:Girls Night Out
END:VEVENT
BEGIN:VEVENT
DTSTART;TZID=UTC:20161207T190000
DTEND;TZID=UTC:20161207T200000
DTSTAMP:20260424T000951
CREATED:20161128T200210Z
LAST-MODIFIED:20161128T200210Z
UID:980-1481137200-1481140800@suckspringbaptist.com
SUMMARY:Choir Rehearsal
DESCRIPTION:Join us as we rehearse for the Christmas Cantata on December 18th during Sunday Morning Worship Hour.
URL:https://suckspringbaptist.com/event/choir-rehearsal/
LOCATION:Suck Spring Baptist Church\, 3887 Jopling Rd. \, Bedford\, VA\, 24523\, United States
ATTACH;FMTTYPE=image/jpeg:https://suckspringbaptist.com/wp-content/uploads/2016/04/choir.jpg
END:VEVENT
BEGIN:VEVENT
DTSTART;TZID=UTC:20161207T183000
DTEND;TZID=UTC:20161207T190000
DTSTAMP:20260424T000951
CREATED:20161128T202357Z
LAST-MODIFIED:20161128T202357Z
UID:991-1481135400-1481137200@suckspringbaptist.com
SUMMARY:WMU
DESCRIPTION:Join in on our Women’s Missionary Union as they discuss what’s happening in today’s mission field.
URL:https://suckspringbaptist.com/event/wmu/
LOCATION:Suck Spring Baptist Church\, 3887 Jopling Rd. \, Bedford\, VA\, 24523\, United States
CATEGORIES:WMU
END:VEVENT
BEGIN:VEVENT
DTSTART;TZID=UTC:20161207T063000
DTEND;TZID=UTC:20161207T191500
DTSTAMP:20260424T000951
CREATED:20160420T205308Z
LAST-MODIFIED:20161128T202014Z
UID:197-1481092200-1481138100@suckspringbaptist.com
SUMMARY:No Church Dinner
DESCRIPTION:No church dinner this month.
URL:https://suckspringbaptist.com/event/church-family-dinner-2016-12-07/
ATTACH;FMTTYPE=image/jpeg:https://suckspringbaptist.com/wp-content/uploads/2016/04/Dinner.jpg
END:VEVENT
BEGIN:VEVENT
DTSTART;TZID=UTC:20161204T160000
DTEND;TZID=UTC:20161204T173000
DTSTAMP:20260424T000951
CREATED:20161101T182035Z
LAST-MODIFIED:20161128T201822Z
UID:805-1480867200-1480872600@suckspringbaptist.com
SUMMARY:Christmas Play Practice
DESCRIPTION:
URL:https://suckspringbaptist.com/event/christmas-play-practice/
LOCATION:Suck Spring Baptist Church\, 3887 Jopling Rd. \, Bedford\, VA\, 24523\, United States
CATEGORIES:Children's Event
ATTACH;FMTTYPE=image/jpeg:https://suckspringbaptist.com/wp-content/uploads/2016/11/freely-10044_preview-973x648.jpeg
END:VEVENT
BEGIN:VEVENT
DTSTART;TZID=UTC:20161201T100000
DTEND;TZID=UTC:20161201T113000
DTSTAMP:20260424T000951
CREATED:20160428T044415Z
LAST-MODIFIED:20161128T201227Z
UID:830-1480586400-1480591800@suckspringbaptist.com
SUMMARY:Hearts on Call
DESCRIPTION:Join us for this special ministry where we join forces to give back in some aspect to our church family and the community.
URL:https://suckspringbaptist.com/event/hearts-on-call-2016-12-01/
ATTACH;FMTTYPE=image/jpeg:https://suckspringbaptist.com/wp-content/uploads/2016/04/christmas_sm.jpg
END:VEVENT
BEGIN:VEVENT
DTSTART;TZID=UTC:20161120T110000
DTEND;TZID=UTC:20161120T121500
DTSTAMP:20260424T000951
CREATED:20160420T211857Z
LAST-MODIFIED:20161101T192912Z
UID:277-1479639600-1479644100@suckspringbaptist.com
SUMMARY:Thanksgiving Worship Service
DESCRIPTION:
URL:https://suckspringbaptist.com/event/worship-service-2016-11-20/
CATEGORIES:Worship
END:VEVENT
BEGIN:VEVENT
DTSTART;TZID=UTC:20161108T183000
DTEND;TZID=UTC:20161108T200000
DTSTAMP:20260424T000951
CREATED:20160427T210442Z
LAST-MODIFIED:20161105T190829Z
UID:494-1478629800-1478635200@suckspringbaptist.com
SUMMARY:Margaret Mayhew's GNO
DESCRIPTION:Join us at Margaret Mayhew’s home for Girl’s Night Out!   Dinner and devotion
URL:https://suckspringbaptist.com/event/girls-night-out-7/
CATEGORIES:Girls Night Out
END:VEVENT
BEGIN:VEVENT
DTSTART;TZID=UTC:20161011T183000
DTEND;TZID=UTC:20161011T200000
DTSTAMP:20260424T000951
CREATED:20160427T210234Z
LAST-MODIFIED:20160427T210549Z
UID:493-1476210600-1476216000@suckspringbaptist.com
SUMMARY:Trish Childress GNO
DESCRIPTION:Join us at Trish Childress’s home for Girl’s Night Out!   Dinner and devotion
URL:https://suckspringbaptist.com/event/girls-night-out-6/
CATEGORIES:Girls Night Out
END:VEVENT
BEGIN:VEVENT
DTSTART;TZID=UTC:20160925T110000
DTEND;TZID=UTC:20160925T120000
DTSTAMP:20260424T000951
CREATED:20160830T180634Z
LAST-MODIFIED:20160830T180634Z
UID:760-1474801200-1474804800@suckspringbaptist.com
SUMMARY:The Lord's Supper
DESCRIPTION:
URL:https://suckspringbaptist.com/event/the-lords-supper/
CATEGORIES:Worship
END:VEVENT
BEGIN:VEVENT
DTSTART;VALUE=DATE:20160917
DTEND;VALUE=DATE:20160925
DTSTAMP:20260424T000951
CREATED:20160830T180231Z
LAST-MODIFIED:20160830T180231Z
UID:730-1474070400-1474761599@suckspringbaptist.com
SUMMARY:Nicaragua Mission Trip
DESCRIPTION:
URL:https://suckspringbaptist.com/event/nicaragua-mission-trip/
ATTACH;FMTTYPE=image/jpeg:https://suckspringbaptist.com/wp-content/uploads/2016/06/DSCN0851_web.jpg
END:VEVENT
BEGIN:VEVENT
DTSTART;TZID=UTC:20160913T183000
DTEND;TZID=UTC:20160913T200000
DTSTAMP:20260424T000951
CREATED:20160427T210057Z
LAST-MODIFIED:20160427T210724Z
UID:492-1473791400-1473796800@suckspringbaptist.com
SUMMARY:Shannon Mayhew's GNO
DESCRIPTION:Join us at Shannon Mayhew’s home for Girl’s Night Out!   Dinner and devotion
URL:https://suckspringbaptist.com/event/girls-night-out-5/
CATEGORIES:Girls Night Out
END:VEVENT
BEGIN:VEVENT
DTSTART;TZID=UTC:20160901T100000
DTEND;TZID=UTC:20160901T113000
DTSTAMP:20260424T000951
CREATED:20160428T044415Z
LAST-MODIFIED:20160830T180018Z
UID:590-1472724000-1472729400@suckspringbaptist.com
SUMMARY:Hearts on Call
DESCRIPTION:Join us for this special ministry where we join forces to give back in some aspect to our church family and the community.
URL:https://suckspringbaptist.com/event/hearts-on-call-2016-09-05/
CATEGORIES:Hearts On Call
ATTACH;FMTTYPE=image/jpeg:https://suckspringbaptist.com/wp-content/uploads/2016/04/HeartsOnCall.jpg
END:VEVENT
BEGIN:VEVENT
DTSTART;TZID=UTC:20160813T090000
DTEND;TZID=UTC:20160813T100000
DTSTAMP:20260424T000951
CREATED:20160427T210008Z
LAST-MODIFIED:20160427T210008Z
UID:491-1471078800-1471082400@suckspringbaptist.com
SUMMARY:Girl's Breakfast Out
DESCRIPTION:Join us at Lisa Claytor’s home for breakfast – lovingly hosted by she and Tracie Gordon.
URL:https://suckspringbaptist.com/event/girls-breakfast-out/
CATEGORIES:Girls Night Out
END:VEVENT
BEGIN:VEVENT
DTSTART;TZID=UTC:20160717T180000
DTEND;TZID=UTC:20160717T200000
DTSTAMP:20260424T000951
CREATED:20160624T010456Z
LAST-MODIFIED:20160624T010456Z
UID:692-1468778400-1468785600@suckspringbaptist.com
SUMMARY:Nica Nite Singspiration & Silent Auction
DESCRIPTION:For Nicaragua Mission Trip
URL:https://suckspringbaptist.com/event/nica-nite-singspiration-silent-auction/
LOCATION:Suck Spring Baptist Church\, 3887 Jopling Rd. \, Bedford\, VA\, 24523\, United States
CATEGORIES:Missions Fundraiser
ATTACH;FMTTYPE=image/jpeg:https://suckspringbaptist.com/wp-content/uploads/2016/04/choir.jpg
END:VEVENT
BEGIN:VEVENT
DTSTART;TZID=UTC:20160712T183000
DTEND;TZID=UTC:20160712T200000
DTSTAMP:20260424T000951
CREATED:20160427T205645Z
LAST-MODIFIED:20160427T210821Z
UID:490-1468348200-1468353600@suckspringbaptist.com
SUMMARY:Andrea Ripley's GNO
DESCRIPTION:Join us at Andrea Ripley’s home for Girl’s Night Out!   Dinner and devotion
URL:https://suckspringbaptist.com/event/girls-night-out-4/
CATEGORIES:Girls Night Out
END:VEVENT
BEGIN:VEVENT
DTSTART;TZID=UTC:20160709T080000
DTEND;TZID=UTC:20160709T120000
DTSTAMP:20260424T000951
CREATED:20160624T010304Z
LAST-MODIFIED:20160624T010304Z
UID:690-1468051200-1468065600@suckspringbaptist.com
SUMMARY:2nd Yard Sale Fundraiser
DESCRIPTION:Proceeds going to Nicaragua Mission Trip
URL:https://suckspringbaptist.com/event/2nd-yard-sale-fundraiser/
LOCATION:Suck Spring Baptist Church\, 3887 Jopling Rd. \, Bedford\, VA\, 24523\, United States
CATEGORIES:Missions Fundraiser
ATTACH;FMTTYPE=image/jpeg:https://suckspringbaptist.com/wp-content/uploads/2016/04/IMG_2354-1.jpg
END:VEVENT
BEGIN:VEVENT
DTSTART;TZID=UTC:20160614T183000
DTEND;TZID=UTC:20160614T200000
DTSTAMP:20260424T000951
CREATED:20160427T205555Z
LAST-MODIFIED:20160427T210924Z
UID:489-1465929000-1465934400@suckspringbaptist.com
SUMMARY:Betty Lou Layne's GNO
DESCRIPTION:Join us at Betty Lou Layne’s home for Girl’s Night Out!   Dinner and devotion
URL:https://suckspringbaptist.com/event/girls-night-out-3/
CATEGORIES:Girls Night Out
END:VEVENT
BEGIN:VEVENT
DTSTART;TZID=UTC:20160605T183000
DTEND;TZID=UTC:20160605T200000
DTSTAMP:20260424T000951
CREATED:20160420T212432Z
LAST-MODIFIED:20160420T212432Z
UID:308-1465151400-1465156800@suckspringbaptist.com
SUMMARY:Vacation Bible School
DESCRIPTION:Join us for a “Submerged” 2016 VBS!
URL:https://suckspringbaptist.com/event/vacation-bible-school/
END:VEVENT
BEGIN:VEVENT
DTSTART;TZID=UTC:20160522T110000
DTEND;TZID=UTC:20160522T120000
DTSTAMP:20260424T000951
CREATED:20160428T044211Z
LAST-MODIFIED:20160428T044211Z
UID:555-1463914800-1463918400@suckspringbaptist.com
SUMMARY:AWANA Awards
DESCRIPTION:Special AWANA Awards Celebration during the worship hour.
URL:https://suckspringbaptist.com/event/awana-awards/
CATEGORIES:AWANA
END:VEVENT
BEGIN:VEVENT
DTSTART;TZID=UTC:20160522T110000
DTEND;TZID=UTC:20160522T120000
DTSTAMP:20260424T000951
CREATED:20160420T210501Z
LAST-MODIFIED:20160420T210501Z
UID:203-1463914800-1463918400@suckspringbaptist.com
SUMMARY:AWANA Sunday
DESCRIPTION:Join us this special Sunday Morning Celebration as we recognize our AWANA clubbers who have worked hard to store God’s word in their hearts.
URL:https://suckspringbaptist.com/event/awana-sunday/
ATTACH;FMTTYPE=image/png:https://suckspringbaptist.com/wp-content/uploads/2016/04/AWana.png
END:VEVENT
BEGIN:VEVENT
DTSTART;TZID=UTC:20160515T110000
DTEND;TZID=UTC:20160515T120000
DTSTAMP:20260424T000951
CREATED:20160428T044100Z
LAST-MODIFIED:20160428T044100Z
UID:554-1463310000-1463313600@suckspringbaptist.com
SUMMARY:"Truly Blessed" Southern Gospel Group
DESCRIPTION:
URL:https://suckspringbaptist.com/event/truly-blessed-southern-gospel-group/
CATEGORIES:Worship
END:VEVENT
BEGIN:VEVENT
DTSTART;TZID=UTC:20160514T080000
DTEND;TZID=UTC:20160514T130000
DTSTAMP:20260424T000951
CREATED:20160428T045257Z
LAST-MODIFIED:20160428T045257Z
UID:594-1463212800-1463230800@suckspringbaptist.com
SUMMARY:Yard Sale Fundraiser
DESCRIPTION:Yard sale fundraiser for Nicaragua Mission Trip
URL:https://suckspringbaptist.com/event/yard-sale-fundraiser/
ATTACH;FMTTYPE=image/jpeg:https://suckspringbaptist.com/wp-content/uploads/2016/04/IMG_2354-1.jpg
END:VEVENT
BEGIN:VEVENT
DTSTART;TZID=UTC:20160510T183000
DTEND;TZID=UTC:20160510T200000
DTSTAMP:20260424T000951
CREATED:20160427T205419Z
LAST-MODIFIED:20160427T213941Z
UID:488-1462905000-1462910400@suckspringbaptist.com
SUMMARY:Faye Eubank GNO
DESCRIPTION:Join us at Faye Eubank’s home for Girl’s Night Out!   Dinner and devotion
URL:https://suckspringbaptist.com/event/girls-night-out-2/
CATEGORIES:Girls Night Out
END:VEVENT
BEGIN:VEVENT
DTSTART;TZID=UTC:20160505T100000
DTEND;TZID=UTC:20160505T113000
DTSTAMP:20260424T000951
CREATED:20160428T044415Z
LAST-MODIFIED:20161101T193738Z
UID:556-1462442400-1462447800@suckspringbaptist.com
SUMMARY:Hearts on Call
DESCRIPTION:Join us for this special ministry where we join forces to give back in some aspect to our church family and the community.
URL:https://suckspringbaptist.com/event/hearts-on-call/
ATTACH;FMTTYPE=image/jpeg:https://suckspringbaptist.com/wp-content/uploads/2016/04/HeartsOnCall.jpg
END:VEVENT
BEGIN:VEVENT
DTSTART;TZID=UTC:20160501T173000
DTEND;TZID=UTC:20160501T190000
DTSTAMP:20260424T000951
CREATED:20160427T225031Z
LAST-MODIFIED:20160428T043354Z
UID:513-1462123800-1462129200@suckspringbaptist.com
SUMMARY:AWANA
DESCRIPTION:Join us for our weekly AWANA night!  Kids ages 3 – grade 6!
URL:https://suckspringbaptist.com/event/awana/
CATEGORIES:AWANA
END:VEVENT
BEGIN:VEVENT
DTSTART;TZID=UTC:20160420T183000
DTEND;TZID=UTC:20160420T191500
DTSTAMP:20260424T000951
CREATED:20160420T204819Z
LAST-MODIFIED:20160420T204819Z
UID:179-1461177000-1461179700@suckspringbaptist.com
SUMMARY:Business Meeting
DESCRIPTION:
URL:https://suckspringbaptist.com/event/business-meeting/
END:VEVENT
BEGIN:VEVENT
DTSTART;TZID=UTC:20160420T183000
DTEND;TZID=UTC:20160420T191500
DTSTAMP:20260424T000951
CREATED:20160420T202635Z
LAST-MODIFIED:20160420T203151Z
UID:68-1461177000-1461179700@suckspringbaptist.com
SUMMARY:Devotional & Prayer
DESCRIPTION:Join us for a devoted time to the Lord in prayer.
URL:https://suckspringbaptist.com/event/devotional-prayer/
ATTACH;FMTTYPE=image/jpeg:https://suckspringbaptist.com/wp-content/uploads/2016/04/Prayer.jpg
END:VEVENT
BEGIN:VEVENT
DTSTART;TZID=UTC:20160417T110000
DTEND;TZID=UTC:20160417T121500
DTSTAMP:20260424T000951
CREATED:20160420T211857Z
LAST-MODIFIED:20160420T211857Z
UID:237-1460890800-1460895300@suckspringbaptist.com
SUMMARY:Worship Service
DESCRIPTION:
URL:https://suckspringbaptist.com/event/worship-service/
END:VEVENT
BEGIN:VEVENT
DTSTART;TZID=UTC:20160417T093000
DTEND;TZID=UTC:20160417T110000
DTSTAMP:20260424T000951
CREATED:20160420T211702Z
LAST-MODIFIED:20160420T211702Z
UID:204-1460885400-1460890800@suckspringbaptist.com
SUMMARY:Sunday School
DESCRIPTION:Arrive between 9:30 and 9:50 for a morning snack and fellowship.  Sunday School begins at 10am.
URL:https://suckspringbaptist.com/event/sunday-school/
ATTACH;FMTTYPE=image/jpeg:https://suckspringbaptist.com/wp-content/uploads/2016/04/SundaySchool.jpg
END:VEVENT
END:VCALENDAR