BEGIN:VCALENDAR
VERSION:2.0
PRODID:-//Suck Spring Baptist Church - ECPv6.15.1.1//NONSGML v1.0//EN
CALSCALE:GREGORIAN
METHOD:PUBLISH
X-WR-CALNAME:Suck Spring Baptist Church
X-ORIGINAL-URL:https://suckspringbaptist.com
X-WR-CALDESC:Events for Suck Spring Baptist Church
REFRESH-INTERVAL;VALUE=DURATION:PT1H
X-Robots-Tag:noindex
X-PUBLISHED-TTL:PT1H
BEGIN:VTIMEZONE
TZID:UTC
BEGIN:STANDARD
TZOFFSETFROM:+0000
TZOFFSETTO:+0000
TZNAME:UTC
DTSTART:20160101T000000
END:STANDARD
END:VTIMEZONE
BEGIN:VEVENT
DTSTART;TZID=UTC:20161207T183000
DTEND;TZID=UTC:20161207T190000
DTSTAMP:20260423T183338
CREATED:20161128T202357Z
LAST-MODIFIED:20161128T202357Z
UID:991-1481135400-1481137200@suckspringbaptist.com
SUMMARY:WMU
DESCRIPTION:Join in on our Women’s Missionary Union as they discuss what’s happening in today’s mission field.
URL:https://suckspringbaptist.com/event/wmu/
LOCATION:Suck Spring Baptist Church\, 3887 Jopling Rd. \, Bedford\, VA\, 24523\, United States
CATEGORIES:WMU
END:VEVENT
END:VCALENDAR