BEGIN:VCALENDAR
VERSION:2.0
PRODID:-//Suck Spring Baptist Church - ECPv6.15.1.1//NONSGML v1.0//EN
CALSCALE:GREGORIAN
METHOD:PUBLISH
X-ORIGINAL-URL:https://suckspringbaptist.com
X-WR-CALDESC:Events for Suck Spring Baptist Church
REFRESH-INTERVAL;VALUE=DURATION:PT1H
X-Robots-Tag:noindex
X-PUBLISHED-TTL:PT1H
BEGIN:VTIMEZONE
TZID:America/New_York
BEGIN:DAYLIGHT
TZOFFSETFROM:-0500
TZOFFSETTO:-0400
TZNAME:EDT
DTSTART:20190310T070000
END:DAYLIGHT
BEGIN:STANDARD
TZOFFSETFROM:-0400
TZOFFSETTO:-0500
TZNAME:EST
DTSTART:20191103T060000
END:STANDARD
END:VTIMEZONE
BEGIN:VEVENT
DTSTART;TZID=America/New_York:20190627T080000
DTEND;TZID=America/New_York:20190630T170000
DTSTAMP:20260423T130838
CREATED:20190624T160908Z
LAST-MODIFIED:20190624T160908Z
UID:1359-1561622400-1561914000@suckspringbaptist.com
SUMMARY:Mission Trip To Jenkins\, KY
DESCRIPTION:A team of 9 will be traveling to Jenkins\, Kentucky June 27-30\, 2019. They will be involved in community mission projects\, construction/repair projects and evangelism.
URL:https://suckspringbaptist.com/event/mission-trip-to-jenkins-ky/
CATEGORIES:Missions
ATTACH;FMTTYPE=image/png:https://suckspringbaptist.com/wp-content/uploads/2019/06/RH_0718_GRPH_286x276_Kentucky_USA_GBL.png
END:VEVENT
END:VCALENDAR